BEGIN:VCALENDAR
VERSION:2.0
PRODID:-//Stadtgeschichte München//DE
CALSCALE:GREGORIAN
BEGIN:VEVENT
UID:1940@stadtgeschichte-muenchen.de
SUMMARY:Treten Sie ein! Max Emanuel lässt bitten
DESCRIPTION:
DTSTART:20120219T140000
DTEND:20120219T000000
LOCATION:Neues Schloss Schleissheim, 
ORGANIZER:Münchner Gästeführer Verein e.V.
END:VEVENT
END:VCALENDAR