BEGIN:VCALENDAR
VERSION:2.0
PRODID:-//Stadtgeschichte München//DE
CALSCALE:GREGORIAN
BEGIN:VEVENT
UID:19406@stadtgeschichte-muenchen.de
SUMMARY:Kaisersaal und maximilianische Residenz
DESCRIPTION:
DTSTART:20201220T130000
DTEND:20201220T000000
LOCATION:Residenzmodell am Max-Joseph-Platz
ORGANIZER:Bayerische Schlösserverwaltung
END:VEVENT
END:VCALENDAR