BEGIN:VCALENDAR
VERSION:2.0
PRODID:-//Stadtgeschichte München//DE
CALSCALE:GREGORIAN
BEGIN:VEVENT
UID:19416@stadtgeschichte-muenchen.de
SUMMARY:Feuer &amp; Eis: Die Münchner Geschichte des Neuanfangens
DESCRIPTION:&lt;p&gt;Horch! das Feuerglöcklein gellt! – Eduard Mörikes Vers aus „Der Feuerreiter“ kann ein spezielles Kapitel Stadtgeschichte übertiteln: Von der Wiege Münchens bis heute haben Stadt- und Theaterbrände, Explosionen, der Brand des Glaspalastes wie des Kolosseums die Altstadt geprägt. Feuerwerk und feuerspeiende Drachen zur Unterhaltung, aber auch Brandstiftung, die Geschichte der Feuerwehr, sowie Hagelunwetter und Schneechaos sind in die Stadtchronik eingegangen. Folgen Sie den sichtbaren Spuren von Feuer und Eis!&lt;/p&gt; 
DTSTART:20201002T170000
DTEND:20201002T190000
LOCATION:Marienplatz, Mariensäule
ORGANIZER:Münchner Schatzsuche
END:VEVENT
END:VCALENDAR