BEGIN:VCALENDAR
VERSION:2.0
PRODID:-//Stadtgeschichte München//DE
CALSCALE:GREGORIAN
BEGIN:VEVENT
UID:19419@stadtgeschichte-muenchen.de
SUMMARY:Annette Kolb
DESCRIPTION:&lt;p&gt;München ist nicht nur Geburtsort Annette Kolbs (1870-f967), sondern auch der Raum, in dem die politische Literatin ihre Identität als Bayerin, Französin und Europäerin von Kindheit an (er)fand. Schon die Jugendliche pflegte den Austausch mit Künstlern, Intellektuellen und Politikern. Der ßogen spannte sich von Katja und Thomas Mann, Alma Mahler-Werfel, Adolf von Hildebrand, Joseph Roth, Max Reinhardt . über llse Aichinger, Elazar Benyoetz bis zu Charles de Gaulle. Von München aus stellten sich die Weichen eines ungemein bewegten, widerständigen und für den Pazifismus und die europäische Idee engagierten Lebens.&lt;/p&gt; 
DTSTART:20210126T100000
DTEND:20210126T113000
LOCATION:Gasteig · Rosenheimer Str. 5
ORGANIZER:MVHS München Mitte   
END:VEVENT
END:VCALENDAR