BEGIN:VCALENDAR
VERSION:2.0
PRODID:-//Stadtgeschichte München//DE
CALSCALE:GREGORIAN
BEGIN:VEVENT
UID:19420@stadtgeschichte-muenchen.de
SUMMARY:München im Beatles-Fieber 
DESCRIPTION:&lt;p&gt;Die Beatles, die sich vor 50 Jahren als Band auflösten, traten nur ein einziges Mal in München auf: am 24. Juni 1966 gaben sie im Circus Krone zwei Konzerte, die jeweils eine halbe Stunde dauerten. Die Jugend stand Kopf. - und die Polizei befürchtete Randale und Ausschreitungen, wozu es jedoch nicht kommen sollte. Der Vortrag geht auf dieses für viele Münchner Fans denkwürdige Ereignis ein und zeigt auf, welche Wellen der Auftritt der vier „ Pilzköpfe&quot; aus Liverpool in der bayerischen Landeshauptstadt damals auslöste.&lt;/p&gt; 
DTSTART:20210112T100000
DTEND:20210112T113000
LOCATION:Gasteig · Rosenheimer Str. 5
ORGANIZER:MVHS München Mitte   
END:VEVENT
END:VCALENDAR