BEGIN:VCALENDAR
VERSION:2.0
PRODID:-//Stadtgeschichte München//DE
CALSCALE:GREGORIAN
BEGIN:VEVENT
UID:19422@stadtgeschichte-muenchen.de
SUMMARY:Max von Pettenkofer
DESCRIPTION:&lt;p&gt;Die Münchner Stadthygiene im 19. Jahrhundert · München verdankt Max von Pettenkofer viel: sauberes Trinkwasser und eine leistungsfähige Kanalisation. Schon Ende des 19. Jahrhunderts galt die Stadt daher als einer der saubersten Orte Europas. Bis heute treffen wir überall in München auf Spuren des Chemikers und großen Visionärs Max von Pettenkofer. Ber,ijamin Tax, langjährige~ Mitarbeiter im Münchner Kanalnetz, informiert auch mithilfe von Bildern und kleinen Gegenständen über praktische Details und Hintergründe der Münchner Abwasserentsorgung.&lt;/p&gt; 
DTSTART:20210224T180000
DTEND:20210224T193000
LOCATION:Gasteig · Rosenheimer Str. 5
ORGANIZER:MVHS München Mitte   
END:VEVENT
END:VCALENDAR