BEGIN:VCALENDAR
VERSION:2.0
PRODID:-//Stadtgeschichte München//DE
CALSCALE:GREGORIAN
BEGIN:VEVENT
UID:19423@stadtgeschichte-muenchen.de
SUMMARY:10 Jahre Memory Loops in München
DESCRIPTION:&lt;p&gt;Das virtuelle Denkmal des NS-Terrors von Michaela Melian - ein Online-Format Dieses Denkmal hat keinen konkreten Ort und ist doch in München omnipräsent Denn das ganze Stadtgebiet ist Träger des Denkmals. An 60 ausgewählten Plätzen verbinden uns quadratische blaue Tafeln versehen mit jeweils einer Telefonnummer und der Internetadresse wwwmemoryloops.net mit Zeitzeugenberichten, die auf Tonspuren festgehalten sind. Anette Spieldiener wird dieses virtuelle Denkmal mit seinen über 24 Stunden umfassenden Audiomaterial, den Wettbewerb im Vorfeld sowie die Arbeitsweise der Künstlerin vorstellen. Gemeinsam werden online ausg·ewählte Tonspuren angehört . Das Online-Medium ermöglichtdabei das gemeinsame Teilen von Erinnerung, welches im Stadtraum so nicht möglich wäre. Eine Einladungs E- Mail mit Link für die Teilnahme erhalten Sie 2 Tage vor Kursbeginn zugeschickt - Benötigt werden: Tablet oder PC/Laptop mit Headset/ Kopfhörer und Mikrophon - gute Internetverbindung (min 512 Kbit/s)- Firefox oder Chrome als empfohlene Browser&lt;/p&gt; 
DTSTART:20210204T173000
DTEND:20210204T193000
LOCATION:
ORGANIZER:MVHS München Mitte   
END:VEVENT
END:VCALENDAR