BEGIN:VCALENDAR
VERSION:2.0
PRODID:-//Stadtgeschichte München//DE
CALSCALE:GREGORIAN
BEGIN:VEVENT
UID:19428@stadtgeschichte-muenchen.de
SUMMARY:Verborgenes Mittelalter
DESCRIPTION:&lt;p&gt;Man muss in der Münchner Altstadt nicht tief graben, um auf eine faszinierende, längst vergangene Welt zu stoßen. Alte Gewölbe, längst vergessene Bäche, mittelalterliche Stadtmauern, verblichene Knochen und Münchens ältester Raum - unter Münchens Pflaster ist die Vergangenheit quicklebendig! Gemeinsam durchstreifen wir alte Gassen und Plätze und lassen uns überraschen: Wer hätte gedacht, welch jahrhundertealtes Geheimnis manch vertrauter Ort bereithält? • Die Führung findet oberirdisch statt.&lt;/p&gt; 
DTSTART:20201027T110000
DTEND:20201027T123000
LOCATION:Altes Rathaus, Turmaufgang · Marienplatz 15
ORGANIZER:MVHS München Mitte   
END:VEVENT
END:VCALENDAR