BEGIN:VCALENDAR
VERSION:2.0
PRODID:-//Stadtgeschichte München//DE
CALSCALE:GREGORIAN
BEGIN:VEVENT
UID:19437@stadtgeschichte-muenchen.de
SUMMARY:Altmünchner Gastlichkeit
DESCRIPTION:&lt;p&gt;,,Berge von unten, Kirchen von außen und Wirtshäuser von innen&quot; - so lautete seinerzeit der Titel einer Ausstellung über Münchner Wirtshäuser. Den letzten Teil wollen wir uns zu eigen machen und bei diesem Rundgang durch die Münchner Altstadt einige der noch original erhaltenen Gasträume der Jahrhundertwende kennen lernen. Erfahren Sie mehr über traditionsreiche Weinwirtschaften, Restaurants und Cafes in historischen Bauten.&lt;/p&gt; 
DTSTART:20200205T150000
DTEND:20200205T170000
LOCATION:Stachus · Unter dem Karlstor · Karlsplatz
ORGANIZER:MVHS München Mitte   
END:VEVENT
END:VCALENDAR