BEGIN:VCALENDAR
VERSION:2.0
PRODID:-//Stadtgeschichte München//DE
CALSCALE:GREGORIAN
BEGIN:VEVENT
UID:1944@stadtgeschichte-muenchen.de
SUMMARY:Der Englische Garten - Park-Juwel im Herzen Münchens
DESCRIPTION:&lt;div&gt;Der Englische Garten ist ein gr&amp;uuml;nes Juwel mitten in M&amp;uuml;nchen. 1789 gab Kurf&amp;uuml;rst Carl Theodor dem Briten Benjamin Thompson den Auftrag, einen &amp;ouml;ffentlichen Park an der Isar zu konzipieren, den dieser als englischen Landschaftsgarten plante. Wir blicken hinter die Kulissen dieser faszinierenden Entstehungsgeschichte, betrachten andere englische Landschaftsg&amp;auml;rten und durchstreifen die Geschichte der Gartenbaukunst anhand ausgew&amp;auml;hlter Bilder.&lt;/div&gt;
DTSTART:20120727T180000
DTEND:20120727T193000
LOCATION:Seidlvilla, Nikolaiplatz 1b
ORGANIZER:MVHS München Mitte   
END:VEVENT
END:VCALENDAR