BEGIN:VCALENDAR
VERSION:2.0
PRODID:-//Stadtgeschichte München//DE
CALSCALE:GREGORIAN
BEGIN:VEVENT
UID:19459@stadtgeschichte-muenchen.de
SUMMARY:Drei Moosacher im Kampf gegen die Boxer: China 1901/2
DESCRIPTION:&lt;p&gt;Drei Moosacher Bauernjungen meldeten sich 1901 als Freiwillige, um in China, einem ihnen völlig unbekannten Land, einen Aufstand der sogenannten „ Boxer&quot; niederzuschlagen. Der Vortrag zeichnet die Hintergründe dieses Aufstands nach und erzählt, in welchen Krieg die Moosacher gerieten, wie sie ihn überlebten und wie es ihnen danach erging.&lt;/p&gt; &lt;p&gt;In Kooperation mit dem Geschichtsverein Moosach e. V&lt;br /&gt; Im Rahmen der Vortragsreihe „ Montags in Moosach&quot;.&lt;/p&gt; 
DTSTART:20210208T183000
DTEND:20210208T200000
LOCATION:MVHS in Moosach · Baubergerstr. 6a
ORGANIZER:MVHS München Nord
END:VEVENT
END:VCALENDAR