BEGIN:VCALENDAR
VERSION:2.0
PRODID:-//Stadtgeschichte München//DE
CALSCALE:GREGORIAN
BEGIN:VEVENT
UID:19460@stadtgeschichte-muenchen.de
SUMMARY:Wo wird Politik gemacht?
DESCRIPTION:&lt;p&gt;Das Neue Rathaus am Münchner Marienplatz ist Sitz des Oberbürgermeisters, der beiden Bürgermeister und des Stadtrates sowie Hauptsitz der Münchner Stadtverwaltung. Bei der Führung durch die Sitzungssäle erläutert die Moosacher Stadträtin Julia Schönfeld-Knor, wie im Stadtrat gearbeitet wird, welche Themen aktuell auf der Tagesordnung stehen und wie die Interessend er Bürgerinnen und Bürger im Münchner Norden in Stadtratsbeschlüsse Eingang finden. Für Erwachsene und Jugendliche ab 12 Jahren&lt;/p&gt; 
DTSTART:20210115T160000
DTEND:20210115T173000
LOCATION:Eingang beim Pförtner am Fischbrunnena uf dem Marienplatz · Marienplatz 8
ORGANIZER:MVHS München Nord
END:VEVENT
END:VCALENDAR