BEGIN:VCALENDAR
VERSION:2.0
PRODID:-//Stadtgeschichte München//DE
CALSCALE:GREGORIAN
BEGIN:VEVENT
UID:1947@stadtgeschichte-muenchen.de
SUMMARY:Herzog Ludwig X. von Bayern
DESCRIPTION:&lt;div&gt;Saturn und Merkur, der Kleine B&amp;auml;r und die Waage - wer in den ersten Stock der Landshuter Stadtresidenz hinaufsteigt, steht pl&amp;ouml;tzlich unter einer Art &amp;bdquo;k&amp;uuml;nstlichem Himmel&amp;quot;. An der Decke sind die um 1500 be&amp;shy;kannten Sternbilder abgebildet, aber auch die zw&amp;ouml;lf Tierkreiszeichen und die sieben Planeten. Wieso findet sich dieses &amp;bdquo;erste Planetarium n&amp;ouml;rdlich der Alpen&amp;quot; ausgerechnet in Landshut? Und was hat es mit der Anordnung der Darstellungen auf sich: Symbolisieren sie die astrologi&amp;shy;schen Einfl&amp;uuml;sse auf Leben und Alltag ihres Auftraggebers?&lt;/div&gt;
DTSTART:20120329T103000
DTEND:20120329T120000
LOCATION:Gasteig, Rosenheimer Str. 5
ORGANIZER:MVHS München Mitte   
END:VEVENT
END:VCALENDAR