BEGIN:VCALENDAR
VERSION:2.0
PRODID:-//Stadtgeschichte München//DE
CALSCALE:GREGORIAN
BEGIN:VEVENT
UID:19471@stadtgeschichte-muenchen.de
SUMMARY:Besuch im Secondhand-Kaufhaus der diakonia
DESCRIPTION:&lt;p&gt;Im Secondhand-Kaufhaus der diakonia gibt es auf 1200 Quadratmetern alles rund um den Haushalt, z.B. Möbel, Bücher und Kleidung. Alle Artikel sind Spenden und einkaufen kann jeder. Das Projekt kümmert sich um die Integration von Langzeitarbeitslosen und gibt ihnen eine Möglichkeit, wieder einen Beruf aufzunehmen. Die Führung stellt das Kaufhaus und die Einrichtung mit allen Arbeitsbereichen vor.&lt;/p&gt; 
DTSTART:20201021T150000
DTEND:20201021T163000
LOCATION:an der Theke im Kaufhaus, Dachauer Str. 192/EG (U1 Westfriedhof) 
ORGANIZER:MVHS München Nord
END:VEVENT
END:VCALENDAR