BEGIN:VCALENDAR
VERSION:2.0
PRODID:-//Stadtgeschichte München//DE
CALSCALE:GREGORIAN
BEGIN:VEVENT
UID:19491@stadtgeschichte-muenchen.de
SUMMARY:Digitalisierung in München - Projekt „Smarter Together&quot;
DESCRIPTION:&lt;p&gt;Die Digitalisierungsstrategie der LH München trägt das Leitmotiv München.Digital Erleben. Ein besonderes Highlight ist das EU-Projekt „Smarter Together&quot;. Am westlichen Rand Münchens im Gebiet Neuaubing-Westkreuz/Freiham plant und entwickelt die Landeshauptstadt den Stadtteil der Zukunft. Hier werden gemeinsam mit Experten und Partnern aus Industrie und Forschung innovative Lösungen in den Themenfeldern Mobilität, Energie und Technologie für das Quartier umgesetzt. Erfahren Sie die neuesten Entwicklungen und diskutieren Sie mit Vertretern der Stadt über die digitale Zukunft Münchens&lt;/p&gt; 
DTSTART:20201118T180000
DTEND:20201118T193000
LOCATION:
ORGANIZER:MVHS München West
END:VEVENT
END:VCALENDAR