BEGIN:VCALENDAR
VERSION:2.0
PRODID:-//Stadtgeschichte München//DE
CALSCALE:GREGORIAN
BEGIN:VEVENT
UID:1952@stadtgeschichte-muenchen.de
SUMMARY:Münchens dunkle Zeit
DESCRIPTION:&lt;p&gt;So gut wie nichts deutet bisher im touristischen Zentrum M&amp;uuml;nchens darauf hin, dass hier der Nationalsozialismus seinen Aufstieg nahm. Im September 1919 ergriff Adolf Hitler im Sterneckerbr&amp;auml;u erstmals das Wort. Der historische Rundgang f&amp;uuml;hrt zu den St&amp;auml;tten dieser dunklen Seite in M&amp;uuml;nchens Geschichte. Vom Aufstieg der NSDAP in der Weimarer Republik, &amp;uuml;ber die Etablierung in den drei&amp;szlig;iger Jahren, die Verfolgung von Menschen aus politischen und rassistischen Gr&amp;uuml;nden bis zur Entfesselung des Krieges.&lt;/p&gt;
DTSTART:20120615T170000
DTEND:20120615T190000
LOCATION:BMW-Pavillon, Lenbachplatz/Ecke Maxburgstraße
ORGANIZER:MVHS München Mitte   
END:VEVENT
END:VCALENDAR