BEGIN:VCALENDAR
VERSION:2.0
PRODID:-//Stadtgeschichte München//DE
CALSCALE:GREGORIAN
BEGIN:VEVENT
UID:1953@stadtgeschichte-muenchen.de
SUMMARY:Vom Bastardbalken zum Michael Jackson Monument
DESCRIPTION:&lt;div&gt;Einst befanden sich im Kreuzviertel ausgedehnte Klosteranlagen der Augustinereremiten, derTheatiner und der Karmeliten. Hier mussten die Salzlader ihre Waren stapeln und zum Kauf anbieten, hier stand die Wilhelminische Feste - heute Maxburg - und das erste M&amp;uuml;nchner Opernhaus. Pr&amp;auml;chtige Adelspalais zeugen vom Glanz fr&amp;uuml;herer Zeiten. Heute pr&amp;auml;gen die F&amp;uuml;nf H&amp;ouml;fe, das Literaturhaus, Luxusgesch&amp;auml;fte, Hotels und Banken das Viertel.&lt;/div&gt;
DTSTART:20120511T160000
DTEND:20120511T180000
LOCATION:Theatinerstr./Ecke Maffeistr.
ORGANIZER:MVHS München Mitte   
END:VEVENT
END:VCALENDAR