BEGIN:VCALENDAR
VERSION:2.0
PRODID:-//Stadtgeschichte München//DE
CALSCALE:GREGORIAN
BEGIN:VEVENT
UID:19544@stadtgeschichte-muenchen.de
SUMMARY:Auf den Spuren von Schloss Biederstein
DESCRIPTION:&lt;p&gt;Seit 230 Jahren steht der Englische Garten den Bürgern offen und weitet den Spaziergängern auf seinen kunstvoll angelegten Wegen die Seelen. Viele Dichter haben dieses Gartenkunstwerk erlebt und geschildert, von Thomas Mann bis Rainer Maria Rilke, von Guillaume Apollinaire bis Eugen Roth. Das Anbandeln gehört hier dazu, wie Frank Wedekind, Franz Hessel und Marieluise Fleißer wissen. Neue Spuren führen uns in das Gebiet des einstigen&amp;nbsp;&lt;strong&gt;Schlossparks Biederstein&lt;/strong&gt;&amp;nbsp;als Schauplatz konkreter und erfundener Königlicher Hoheiten. Der Spaziergang beginnt am einstigen Alten Schloss Biederstein (heute Studentenwohnheim) und führt uns am Kleinhesseloher See vorbei zum Monopteros und einer steinernen Bank mit einem sinnigen Spruch für ein geselliges Beisammensein bei einem Glas Schampus.&lt;/p&gt; &lt;p&gt;&amp;nbsp;&lt;/p&gt; 
DTSTART:20210711T100000
DTEND:20210711T120000
LOCATION:Biedersteiner Straße / Ecke Weisgerber Straße
ORGANIZER:Literarische Spaziergänge und Exkursionen
END:VEVENT
END:VCALENDAR