BEGIN:VCALENDAR
VERSION:2.0
PRODID:-//Stadtgeschichte München//DE
CALSCALE:GREGORIAN
BEGIN:VEVENT
UID:19549@stadtgeschichte-muenchen.de
SUMMARY:Ironie haben wir hier nicht!
DESCRIPTION:&lt;p&gt;Fünf&amp;nbsp;etwas versteckte Denkmäler erinnern in München an&amp;nbsp;&lt;strong&gt;Heinrich Heine&amp;nbsp;&lt;/strong&gt;(1797-1856), den freien Geist des frühen 19. Jahrhunderts, der ein Dreivierteljahr 1827/28 in München gelebt hat. Vom&amp;nbsp;&lt;em&gt;Radspielerhaus&lt;/em&gt;&amp;nbsp;geht es zum&amp;nbsp;&lt;em&gt;Hofgarten&lt;/em&gt;&amp;nbsp;und zum&amp;nbsp;&lt;em&gt;Finanzgarten&lt;/em&gt;, danach mit der U-Bahn zur&amp;nbsp;&lt;em&gt;Münchner Freiheit&lt;/em&gt;, wo der Spaziergang mit einem Abstecher in die&amp;nbsp;&lt;em&gt;Feilitzschstraße&lt;/em&gt;&amp;nbsp;endet.&amp;nbsp;&lt;a href=&quot;https://www.literaturportal-bayern.de/literaturland?type=trip&amp;amp;id=148&quot;&gt;Der Spaziergang ist über das Literaturportal Bayern nachlesbar.&lt;/a&gt;&lt;/p&gt; 
DTSTART:20210617T170000
DTEND:20210617T190000
LOCATION:Hackenstraße 7 b (Radspielerhaus, Eingang Brunnstraße)
ORGANIZER:Literarische Spaziergänge und Exkursionen
END:VEVENT
END:VCALENDAR