BEGIN:VCALENDAR
VERSION:2.0
PRODID:-//Stadtgeschichte München//DE
CALSCALE:GREGORIAN
BEGIN:VEVENT
UID:1955@stadtgeschichte-muenchen.de
SUMMARY:Türen, Tore, Monumente - unser architektonisches Erbe
DESCRIPTION:&lt;div&gt;An vielen Toren und Monumenten geht man achtlos vorbei. Einmal weil sie uns l&amp;auml;ngst nicht mehr bewu&amp;szlig;t auffallen, andernteils, weil wir nicht genau wissen, was sie bedeuten. Wir fragen nach: Warum verschlie&amp;szlig;t diese Kugel das einsame Tor? Was bedeuten die vier Troph&amp;auml;en auf dem Hofgartentor? Wohin f&amp;uuml;hrte diese T&amp;uuml;r eigentlich? Vielleicht werden Sie nach dieser F&amp;uuml;hrung manches Denkmal, Bau&amp;shy;werk und manche historische Figur mit anderen Augen betrachten!&lt;/div&gt;
DTSTART:20120708T110000
DTEND:20120708T130000
LOCATION:Feldherrnhalle, Odeonsplatz
ORGANIZER:MVHS München Mitte   
END:VEVENT
END:VCALENDAR