BEGIN:VCALENDAR
VERSION:2.0
PRODID:-//Stadtgeschichte München//DE
CALSCALE:GREGORIAN
BEGIN:VEVENT
UID:1956@stadtgeschichte-muenchen.de
SUMMARY:Boarische Gschichten aus München
DESCRIPTION:&lt;p&gt;Bei dieser neuen Mundartf&amp;uuml;hrung schauen wir den M&amp;uuml;nchnern wieder auf den Mund: Woher kommen spezifische Redewendungen? Woher haben Stra&amp;szlig;ennamen und Hausbezeichnungen ihre lustigen Namen? Welche bedeutsamen geschichtlichen Ereignisse haben sich in der bayerischen bzw. M&amp;uuml;nchner Sprache niedergeschlagen? Achtung: Reine Mundart-Tour!&lt;/p&gt;
DTSTART:20120503T160000
DTEND:20120503T180000
LOCATION:Alter Hof beim Brunnen
ORGANIZER:MVHS München Mitte   
END:VEVENT
END:VCALENDAR