BEGIN:VCALENDAR
VERSION:2.0
PRODID:-//Stadtgeschichte München//DE
CALSCALE:GREGORIAN
BEGIN:VEVENT
UID:19576@stadtgeschichte-muenchen.de
SUMMARY:Er &amp; Sie und der Münchner Dom
DESCRIPTION:&lt;p&gt;Sie: Tochter aus adeligem Haus mit Illuminatenverbindungen, siebzehn Jahre alt, aufgeklärt, klug, attraktiv,&amp;nbsp;&amp;nbsp;verliebt in einen jungen Offizier, macht aus Hausfrauenratgebern Lockenwickler und schreibt.&amp;nbsp;&lt;/p&gt; &lt;p&gt;Er: kommt gut 100 Jahre später zu Welt, Sohn aus bürgerlichem Haus, der eine Bohemien-Existenz als Schriftsteller einem langweiligen Banker-Dasein vorzieht und einen Sohn-Vater-Konflikt austrägt, bis er sich mit über 50 Jahren davon befreien kann.&amp;nbsp;&lt;/p&gt; &lt;p&gt;Für beider Leben, dem Fanny von Ickstatts (1767-1785) und Josef Ruederers (1861-1915), ist der Münchner Dom von zentraler Bedeutung: als Ort der Sehnsucht und als Ort einer Freiheit, die zum Äußersten greift. Anhand von Fotos, die an einem Junitag auf 90 Metern Höhe aus dem Nordturm des Münchner Domes aufgenommen wurden, erzählt der Zoomvortrag&amp;nbsp;&amp;nbsp;von Anette Spieldiener die sich ähnelnden Lebensgeschichten der genannten spannenden Münchner Persönlichkeiten.&amp;nbsp;&lt;/p&gt; 
DTSTART:20210621T163000
DTEND:20210621T180000
LOCATION:Videokonferenz
ORGANIZER:Münchner Schatzsuche
END:VEVENT
END:VCALENDAR