BEGIN:VCALENDAR
VERSION:2.0
PRODID:-//Stadtgeschichte München//DE
CALSCALE:GREGORIAN
BEGIN:VEVENT
UID:19585@stadtgeschichte-muenchen.de
SUMMARY:Vorhang auf! Das Cuvilliéstheater
DESCRIPTION:
DTSTART:20220116T140000
DTEND:20220116T160000
LOCATION:Brunnenhof der Residenz
ORGANIZER:Bayerische Schlösserverwaltung
END:VEVENT
END:VCALENDAR