BEGIN:VCALENDAR
VERSION:2.0
PRODID:-//Stadtgeschichte München//DE
CALSCALE:GREGORIAN
BEGIN:VEVENT
UID:19595@stadtgeschichte-muenchen.de
SUMMARY:Spaziergang in Johanneskirchen zur SEM-Planung 
DESCRIPTION:&lt;p&gt;Die ganz große Stadt(raum)erweiterungs-Planung im Münchner Nordosten von Johanneskirchen aus betrachtet: Vom allerletzten Bahnhofs-Ort an der Stadtgrenze führt dieser Spaziergang querfeldein durch die Stadtrand-Pampa einer ehemaligen Niedermoor-Landschaft, die Mitte der 1930er Jahre für die moderne Landwirtschaft urbar gemacht wurde und wo sich heutzutage manche Baugrube rasch in einen Grundwasser-Teich verwandelt. Schaut so der ideale Planungs-Ort aus, um hier eine Großsiedlungs-Idee mit 30.000 oder noch mehr neue Nachbar*innen zu verwirklichen?&amp;nbsp;&lt;/p&gt; 
DTSTART:20210704T140000
DTEND:20210704T170000
LOCATION:S-Bahnhof Johanneskirchen (S 1), Bahnsteigmitte
ORGANIZER:Münchner Forum
END:VEVENT
END:VCALENDAR