BEGIN:VCALENDAR
VERSION:2.0
PRODID:-//Stadtgeschichte München//DE
CALSCALE:GREGORIAN
BEGIN:VEVENT
UID:19618@stadtgeschichte-muenchen.de
SUMMARY:Das Lehel - Von Wäschern, Kirchen und Prachtstraßen
DESCRIPTION:&lt;p&gt;Die Isar und ihre Nebenarme prägten diese alte Vorstadt Münchens bis ins 19. Jahrhundert hinein. Später verliehen der Bau der Maximilianstraße und der Prinzregentenstraße dem Viertel große Attraktivität. Es entstanden prächtige Mietshäuser und Museen, die Lukaskirche und, am malerischen St.-Anna-Platz, die erste Rokokokirche Münchens. Durchstreifen Sie dieses Viertel mit besonderem Flair, das heute zu den teuersten Wohngegenden Münchens zählt, einst aber vor allem von Tagelöhnern und Wäschern bewohnt wurde.&lt;/p&gt; 
DTSTART:20210901T160000
DTEND:20210901T180000
LOCATION:Bayerisches Nationalmuseum, Prinzregentenstr. 3
ORGANIZER:MVHS München Mitte   
END:VEVENT
END:VCALENDAR