BEGIN:VCALENDAR
VERSION:2.0
PRODID:-//Stadtgeschichte München//DE
CALSCALE:GREGORIAN
BEGIN:VEVENT
UID:19623@stadtgeschichte-muenchen.de
SUMMARY:Schmale Taille, weiter Verstand (Teil 2)
DESCRIPTION:&lt;p&gt;Sie waren ehrgeizig und eigen(un)artig - außergewöhnliche Frauen, denen wir auf unserem Spaziergang durch die Maxvorstadt begegnen. Hartnäckig verfolgten sie ihre Ideen und setzten sich kompromisslos für ihre Überzeugungen ein. Im literarischen Salon von Elsa Bernheimer trafen sich die führenden Schriftsteller der Jahrhundertwende. Unity Mitford kam solange in Hitlers Lieblingslokal, bis er endlich die junge Frau aus der britischen Upper Class ansprach und Elisabet Ney verschaffte sich als &quot;weiblicher Sonderfall&quot; Zutritt an die Münchner Kunstakademie.&lt;/p&gt; &lt;p&gt;Die Führung endet voraussichtlich in der Werneckstraße.&lt;/p&gt; 
DTSTART:20210926T140000
DTEND:20210926T160000
LOCATION:Brienner Str. 11, vor dem Café Luitpold
ORGANIZER:MVHS München Mitte   
END:VEVENT
END:VCALENDAR