BEGIN:VCALENDAR
VERSION:2.0
PRODID:-//Stadtgeschichte München//DE
CALSCALE:GREGORIAN
BEGIN:VEVENT
UID:19644@stadtgeschichte-muenchen.de
SUMMARY: Gruseliges München - ein Autorenspaziergang
DESCRIPTION:&lt;p&gt;Ein Dutzend Münchner Autorinnen und Autoren haben die gruseligsten Orte Münchens ein bisschen genauer unter die Lupe genommen und - wie soll es anders sein - natürlich zu Papier gebracht. Angela Eßer, Werner Gerl, Ingrid Werner sowie Lutz Kreutzer starten mit Ihnen gemeinsam am Marienplatz, um weiter zur Residenz, zur Eisernen Jungfrau und zum Alten Friedhof an der Salvatorkirche zu spazieren. Dort lesen sie jeweils aus ihren Geschichten und freuen sich nach dem Spaziergang noch auf einen Plausch im „Oskar Maria“ (Literaturhaus).&lt;/p&gt; 
DTSTART:20210716T173000
DTEND:20210716T190000
LOCATION:Marienplatz, am Fischbrunnen
ORGANIZER:MVHS München Mitte   
END:VEVENT
END:VCALENDAR