BEGIN:VCALENDAR
VERSION:2.0
PRODID:-//Stadtgeschichte München//DE
CALSCALE:GREGORIAN
BEGIN:VEVENT
UID:19658@stadtgeschichte-muenchen.de
SUMMARY:Vom Bogenhauser Friedhof zum Friedensengel
DESCRIPTION:&lt;p&gt;Der Spaziergang führt zunächst zur Rokoko-Pfarrkirche St. Georg mit ihrem Friedhof, Ruhestätte alteingesessener Familien und prominenter Persönlichkeiten. Im alten Bogenhausen trifft man auf Villen im Historismus der Gründerzeit und im Jugendstil, die im Zweiten Weltkrieg kaum beschädigt wurden. Vom Friedensengel aus fällt der Blick zunächst auf die Villa Stuck und dann auf einen Teil der Maximiliansanlagen. Ein Abstecher führt zum Denkmal für König Ludwig II., nahe der Stelle eines von ihm initiierten, aber nie gebauten Münchner Festspielhauses.&lt;/p&gt; 
DTSTART:20210719T170000
DTEND:20210719T190000
LOCATION:St. Georg, beim Friedhofseingang, Bogenhauser Kirchplatz 1
ORGANIZER:MVHS München Mitte   
END:VEVENT
END:VCALENDAR