BEGIN:VCALENDAR
VERSION:2.0
PRODID:-//Stadtgeschichte München//DE
CALSCALE:GREGORIAN
BEGIN:VEVENT
UID:1967@stadtgeschichte-muenchen.de
SUMMARY:Bürgerbeteiligung bei der Neuplanung des Isartorplatzes
DESCRIPTION:&lt;div&gt;B&amp;uuml;rgerbeteiligung, das Wort ist in aller Munde und wird dann oft doch nicht beachtet oder nachgefragt. Dabei sind die Vorschl&amp;auml;ge der B&amp;uuml;rger/innen machmal lebensnaher und realistischer als die von Planern am gr&amp;uuml;nen Tisch. Bei diesem Rundgang erfahren Sie, wie die geplante Umgestaltung des Tals aussehen wird, und haben am Isar-tor die M&amp;ouml;glichkeit, Ihre Ideen f&amp;uuml;r die dortige Neukonzeption aktiv einzubringen, zu diskutieren und selbst zu gestalten. Im zweiten Teil f&amp;uuml;hrt uns Thomas K&amp;ouml;ster, Leiter des Englischen Gartens, durch Teile des Parks und zeigt an verschiedenen Beispielen, wie dieser nach historischem Vorbild immer wieder neu gestaltet wird. Eine Auswertung Ihrer Entw&amp;uuml;rfe erfolgt zu einem sp&amp;auml;teren Zeitpunkt im Bezirksaus-schuss mit Herrn Wolfgang P&amp;uuml;schel und Vertretern des Planungsreferates.&lt;/div&gt; &lt;div&gt;&amp;nbsp;&lt;/div&gt; &lt;div&gt;Zeichen- und Schreibmaterial wird gestellt. MW-Karte (Kurzstrecke) erforderlich.&lt;/div&gt;
DTSTART:20120620T153000
DTEND:20120620T173000
LOCATION:Ecke Tal/Hochbrückenstr. beim Merkurbrunnen
ORGANIZER:MVHS München Mitte   
END:VEVENT
END:VCALENDAR