BEGIN:VCALENDAR
VERSION:2.0
PRODID:-//Stadtgeschichte München//DE
CALSCALE:GREGORIAN
BEGIN:VEVENT
UID:19672@stadtgeschichte-muenchen.de
SUMMARY:Besuch beim Bauer Oberhauser
DESCRIPTION:&lt;p&gt;In der Millionenstadt München gibt es noch einige bewirtschaftete Bauernhöfe. Wie ein moderner landwirtschaftlicher Betrieb heute geführt wird, darüber gibt Ihnen Sebastian Oberhauser vor Ort Auskunft.&lt;/p&gt; 
DTSTART:20210913T093000
DTEND:20210913T110000
LOCATION: \"Hof Oberhauser\", Ubostr. 49
ORGANIZER:MVHS
END:VEVENT
END:VCALENDAR