BEGIN:VCALENDAR
VERSION:2.0
PRODID:-//Stadtgeschichte München//DE
CALSCALE:GREGORIAN
BEGIN:VEVENT
UID:19677@stadtgeschichte-muenchen.de
SUMMARY:BURGBLICK - fotografischer Spaziergang durch Grünwald
DESCRIPTION:&lt;p&gt;Was gibt es zu entdecken in Grünwald im schönen Isartal? Von der Linde am Marktplatz über die alte Pfarrkirche St. Peter und Paul bis zur Burg können Sie beim Flanieren den Ort erkunden. In erster Linie geht es bei dem Fotospaziergang um die Freude am Fotografieren, das Verbessern der eigenen Fähigkeiten mit der Kamera, die Schulung des Blicks und den Erfahrungsaustausch der Teilnehmenden. Die Fotografin Monika Clara Hoffmann (DGPh) gibt wertvolle Tipps und führt Sie durch Grünwald.&lt;/p&gt; 
DTSTART:20210926T130000
DTEND:20210926T160000
LOCATION:Pfarrheim St. Peter und Paul, Grünwald, Schloßstr. 4
ORGANIZER:MVHS
END:VEVENT
END:VCALENDAR