BEGIN:VCALENDAR
VERSION:2.0
PRODID:-//Stadtgeschichte München//DE
CALSCALE:GREGORIAN
BEGIN:VEVENT
UID:1968@stadtgeschichte-muenchen.de
SUMMARY:Die Bayerische Akademie der Wissenschaften
DESCRIPTION:&lt;div&gt;ist eine der gr&amp;ouml;&amp;szlig;ten und &amp;auml;ltesten Akademien in Deutschland und zugleich traditionsreiche Gelehrtengesellschaft und au&amp;szlig;eruniversit&amp;auml;re Forschungseinrichtung von internationalem Rang. Hier entstehen wissenschaftliche W&amp;ouml;rterb&amp;uuml;cher und Editionen, Lexika und Werkausgaben. Die Wissenschaftler widmen sich der Gletscherforschung, der Satellitengeod&amp;auml;sie, der Inschriftenkunde u. v. m. Der Rundgang informiert &amp;uuml;ber die Arbeit der Akademie und stellt die Redaktion des Bayerischen W&amp;ouml;rterbuchs vor.&lt;/div&gt;
DTSTART:20120308T150000
DTEND:20120308T170000
LOCATION:Alfons-Goppel-Str. 11 (Eingang gegenüber Institute Cervantes) 
ORGANIZER:MVHS München Mitte   
END:VEVENT
END:VCALENDAR