BEGIN:VCALENDAR
VERSION:2.0
PRODID:-//Stadtgeschichte München//DE
CALSCALE:GREGORIAN
BEGIN:VEVENT
UID:19687@stadtgeschichte-muenchen.de
SUMMARY:Jagdrevier und Wohnquartier - Neuhausen früher und heuteAuf Wunsch mit Gebärdensprachdolme
DESCRIPTION:&lt;p&gt;Das ehemals verschlafene Bauerndorf entwickelt sich bis 1900 zu einem Stadtteil mit vielen verschiedenen Gesichtern: Herrschaftliche Villen und charmante Reihenhäuser, Genossenschaftswohnungen und zahlreiche soziale Einrichtungen sind Zeugen dieser Zeit und prägen bis heute das Viertel. Der Dorfheilige, der selige Winthir, und der heilige Hubertus erzählen Geschichten aus vergangenen Zeiten.&lt;/p&gt; &lt;p&gt;Wenn Sie einen Gebärdensprachdolmetscher benötigen, senden Sie bitte eine E-Mail an barrierefrei-lernen@mvhs.de.&lt;/p&gt; 
DTSTART:20210805T153000
DTEND:20210805T173000
LOCATION:am Maibaum, Rotkreuzplatz
ORGANIZER:MVHS
END:VEVENT
END:VCALENDAR