BEGIN:VCALENDAR
VERSION:2.0
PRODID:-//Stadtgeschichte München//DE
CALSCALE:GREGORIAN
BEGIN:VEVENT
UID:19695@stadtgeschichte-muenchen.de
SUMMARY:Demokratie braucht Erinnerung
DESCRIPTION:&lt;p&gt;Im Münchner Norden zeugen unter anderem ehemalige Rüstungsfabriken, SS-Kasernen und Gefangenenlager vom nationalsozialistischen Terror. Die Radtour vermittelt die Bedeutung dieser Infrastruktur für das Funktionieren des NS-Systems, zeigt aber auch Orte des Widerstands, die heute im Stadtbild nicht mehr wahrnehmbar sind.&lt;/p&gt; 
DTSTART:20210725T130000
DTEND:20210725T180000
LOCATION:vor dem Café \"Münchner Freiheit\" (U3/U6)
ORGANIZER:MVHS
END:VEVENT
END:VCALENDAR