BEGIN:VCALENDAR
VERSION:2.0
PRODID:-//Stadtgeschichte München//DE
CALSCALE:GREGORIAN
BEGIN:VEVENT
UID:19722@stadtgeschichte-muenchen.de
SUMMARY:Ost-West-Friedenskirche
DESCRIPTION:&lt;p&gt;Väterchen Timofej, wie er liebevoll genannt wird, ein Emerit aus Russland und seine Frau Natascha, haben diese Kirche in den 1950er Jahren aus dem Nachkriegs-Schutt Münchens und allerlei Unrat errichtet. So ist zum Beispiel die Decke des Gebäudes mit glitzerndem Schokoladenpapier versilbert. Bis heute steht die Kirche umgeben von einem wunderschönen, verwunschenen Garten, einem kleinen Museum und einer Kapelle mitten im Olympiapark. Nach einem Einführungsvortrag von Serge Kaiser, dem Nachfolger von Timofej, haben Sie Gelegenheit, diesen wunderschönen Ort zu erkunden.&lt;/p&gt; 
DTSTART:20210725T110000
DTEND:20210725T123000
LOCATION:Ost-West-Friedenskirche, Spiridon-Louis-Ring 100
ORGANIZER:MVHS
END:VEVENT
END:VCALENDAR