BEGIN:VCALENDAR
VERSION:2.0
PRODID:-//Stadtgeschichte München//DE
CALSCALE:GREGORIAN
BEGIN:VEVENT
UID:19727@stadtgeschichte-muenchen.de
SUMMARY:Feierabendspaziergang durch Freimann
DESCRIPTION:&lt;p&gt;Vor 90 Jahren wurde Freimann nach München eingemeindet. Viel hat sich seither verändert. Doch lassen sich bis heute deutliche Spuren der damaligen Verhältnisse erkennen.&lt;/p&gt; &lt;p&gt;Brigitte Fingerle-Trischler, langjährige Leiterin des Stadtteilarchivs Freimann und Vorsitzende der Mohr-Villa, erzählt bei einem abendlichen Spaziergang vom ältesten Teil Freimanns.&lt;/p&gt; 
DTSTART:20210630T190000
DTEND:20210630T210000
LOCATION:St.-Nikolaus-Platz
ORGANIZER:MVHS
END:VEVENT
END:VCALENDAR