BEGIN:VCALENDAR
VERSION:2.0
PRODID:-//Stadtgeschichte München//DE
CALSCALE:GREGORIAN
BEGIN:VEVENT
UID:19731@stadtgeschichte-muenchen.de
SUMMARY:Das Glockenbachviertel
DESCRIPTION:&lt;p&gt;Westlich an das Gärtnerplatzviertel schließt sich das Glockenbachviertel an, das von zahlreichen Stadtbächen durchzogen wird. Früher waren die Wasserläufe wegen ihrer Wasserkraft attraktiv und es siedelten sich Mühlen, Handwerks- und Industriebetriebe an. Heute verlaufen der namensgebende Glockenbach und andere Stadtbäche unterirdisch, nur der Westermühlbach fließt noch oberirdisch und statt energieintensiver Industriezweige prägen Cafés, Restaurants, Boutiquen und steigende Mieten das charmante Viertel.&lt;/p&gt; &lt;p&gt;Die Führung endet voraussichtlich in der Nähe von St. Maximilian.&lt;/p&gt; 
DTSTART:20210731T140000
DTEND:20210731T160000
LOCATION:Müllerstr./Ecke Fraunhoferstr., Fraunhoferstr. 2
ORGANIZER:MVHS
END:VEVENT
END:VCALENDAR