BEGIN:VCALENDAR
VERSION:2.0
PRODID:-//Stadtgeschichte München//DE
CALSCALE:GREGORIAN
BEGIN:VEVENT
UID:19733@stadtgeschichte-muenchen.de
SUMMARY:Italienisch Visita guidata
DESCRIPTION:&lt;p&gt;Lo sappiamo tutti: Monaco è la città più a Nord d\'Italia. Ma che cosa rende la capitale bavarese così italiana? Una passeggiata che da Königsplatz arriva allo Schrannenhalle, per ripercorrere alcune tappe storiche, artistiche, architettoniche e culinarie della storia italiana di Monaco.&lt;/p&gt; 
DTSTART:20210718T100000
DTEND:20210718T123000
LOCATION:Propyläen (Ostseite), Königsplatz
ORGANIZER:MVHS
END:VEVENT
END:VCALENDAR