BEGIN:VCALENDAR
VERSION:2.0
PRODID:-//Stadtgeschichte München//DE
CALSCALE:GREGORIAN
BEGIN:VEVENT
UID:19736@stadtgeschichte-muenchen.de
SUMMARY:Vortrag zur Ausstellung: #mitmünchnern - Jetzt ist Zukunft
DESCRIPTION:&lt;p&gt;München wird smarter! Alexander Lang zeigt, wie Digitalisierung eine zukunftsfähige Stadtentwicklung möglich macht und stellt die neuesten Pläne für München vor.&lt;/p&gt; 
DTSTART:20210921T190000
DTEND:20210921T203000
LOCATION:Volkshochschule, Troppauer Str. 10
ORGANIZER:MVHS
END:VEVENT
END:VCALENDAR