BEGIN:VCALENDAR
VERSION:2.0
PRODID:-//Stadtgeschichte München//DE
CALSCALE:GREGORIAN
BEGIN:VEVENT
UID:1974@stadtgeschichte-muenchen.de
SUMMARY:Stadtstreunereien am Sendlinger Tor
DESCRIPTION:&lt;div&gt;Die Gegend am Sendlinger Tor - sowohl das Hacken- wie das Angerviertel - hatte in fr&amp;uuml;herer Zeit keinen guten Ruf, fanden sich hier doch u.a. das gemiedene Nachrichter- oder Scharfrichterhaus und ein &amp;bdquo;Haus der gemeinen Dochterlin&amp;quot;, das st&amp;auml;dtische Bordell. Zugleich lag hier am Stadtrand ein Friedhof bei der Kreuzkirche, und das Gebiet au&amp;szlig;erhalb des alten Mauerrings bot Platz f&amp;uuml;r die &amp;bdquo;Pfarrei St. Peter au&amp;szlig;erhalb der Stadt&amp;quot;, f&amp;uuml;r den (Alten) S&amp;uuml;dlichen Friedhof und das &amp;bdquo;Allgemeine Krankenhaus&amp;quot;, das vor 200 Jahren zum Ausgangspunkt des M&amp;uuml;nchner Klinikviertels wurde.&lt;/div&gt;
DTSTART:20120513T110000
DTEND:20120513T130000
LOCATION:Sendlinger Tor (unter dem Torbogen)
ORGANIZER:MVHS München Mitte   
END:VEVENT
END:VCALENDAR