BEGIN:VCALENDAR
VERSION:2.0
PRODID:-//Stadtgeschichte München//DE
CALSCALE:GREGORIAN
BEGIN:VEVENT
UID:19757@stadtgeschichte-muenchen.de
SUMMARY:Bertel Thorvaldsen: Meister des Porträts
DESCRIPTION:
DTSTART:20210701T180000
DTEND:19700101T010000
LOCATION:Glyptothek, Königsplatz 3
ORGANIZER:
END:VEVENT
END:VCALENDAR