BEGIN:VCALENDAR
VERSION:2.0
PRODID:-//Stadtgeschichte München//DE
CALSCALE:GREGORIAN
BEGIN:VEVENT
UID:19781@stadtgeschichte-muenchen.de
SUMMARY:Kaufrausch und Konsum - die Geschichte der Münchner Kaufhäuser
DESCRIPTION:&lt;p&gt;Prunkvolle Fassaden, beliebte Einkaufstreffs und spannende Einkaufspassagen erzählen von der wechselvollen Geschichte der Münchner Kaufhäuser.&lt;br /&gt; Die Geschichte des Kaufhaus beginnt in München früh. Die vielen Warenhäuser mit ihren prachtvollen Fassaden prägten vor allem um 1900 die Innenstadt. Heute sind es Shopping Malls, gestaltet von namhaften Architekten, die die Tradition fortsetzten, doch die Zukunft der Kaufhäuser ist nicht nur in München ungewiss.&lt;/p&gt; 
DTSTART:20210714T100000
DTEND:20210714T113000
LOCATION:Fischbrunnen, Marienplatz
ORGANIZER:Münchner Bildungswerk e.V.
END:VEVENT
END:VCALENDAR