BEGIN:VCALENDAR
VERSION:2.0
PRODID:-//Stadtgeschichte München//DE
CALSCALE:GREGORIAN
BEGIN:VEVENT
UID:19816@stadtgeschichte-muenchen.de
SUMMARY:ZEITKAPSEL
DESCRIPTION:&lt;p&gt;Die ZEITKAPSEL ist eine umgebaute, technisch aufbereitete Telefonzelle, die tagsüber - von Mitte Mai bis Ende September 2021 - für jeweils eine Person kostenfrei zugänglich ist. Gezeigt werden umgebungsbezogene audiovisuelle Arbeiten, die sich historisch, persönlich oder künstlerisch mit dem Stadtviertel Giesing auseinandersetzen. Weitere Ideen, etwa in Kooperation mit Organisationen, Bildungs- und Jugendeinrichtungen, Kollektiven und Einzelpersonen sind willkommen. Die Initiatorin Miriam Worek und der Künstler Philipp Engelhardt sprechen mit Ihnen über den Entstehungsprozess und künstlerischen Ansatz.&lt;/p&gt; 
DTSTART:20210729T183000
DTEND:20210729T200000
LOCATION:Grünspitz, gegenüber dem Stadtteilladen Giesing, Tegernseer Landstr. 113
ORGANIZER:MVHS
END:VEVENT
END:VCALENDAR