BEGIN:VCALENDAR
VERSION:2.0
PRODID:-//Stadtgeschichte München//DE
CALSCALE:GREGORIAN
BEGIN:VEVENT
UID:1982@stadtgeschichte-muenchen.de
SUMMARY:Ein Geschenk von König Max
DESCRIPTION:&lt;div&gt;Friedrich von Sckell legte im Auftrag von K&amp;ouml;nig Max l. 1812 den Botanischen Garten an. Damals noch vor den Toren der Stadt, entstand der erste Gew&amp;auml;chsgarten in M&amp;uuml;nchen. Eine Sammlung von Pflanzen und B&amp;auml;umen aus aller Welt waren erstmals zu besichtigten. Der 1854 auf einem Teil des Gel&amp;auml;ndes errichtete Glaspalast f&amp;uuml;r die Erste Allgemeine Industrieausstellung wurde durch einen Brand zerst&amp;ouml;rt. In den 1930er Jahren kamen der Neptunbrunnen und ein Kaffeehaus dazu. Es sind spannende Geschichten &amp;uuml;ber die wechselnde Nutzung des Gartens und der damals handelnden Personen.&lt;/div&gt;
DTSTART:20120706T170000
DTEND:20120706T190000
LOCATION:Portikus Alter Botanischer Garten â€¢ Ecke ElisenVSophienstr. (Stachus)
ORGANIZER:MVHS München Mitte   
END:VEVENT
END:VCALENDAR