BEGIN:VCALENDAR
VERSION:2.0
PRODID:-//Stadtgeschichte München//DE
CALSCALE:GREGORIAN
BEGIN:VEVENT
UID:19821@stadtgeschichte-muenchen.de
SUMMARY:Moosach erneuert sich
DESCRIPTION:&lt;p&gt;Begleiten Sie uns auf einer spannenden Fahrradtour vom Stadtteilladen über den Bunzlauer Platz Richtung Süden bis zum Westfriedhof, wo wir Ihnen alle wichtigen Ziele der Stadtsanierung der kommenden Jahre vorstellen.&lt;/p&gt; &lt;p&gt;Debb ein Teil Moosachs wurde im Januar 2021 durch den Münchner Stadtrat förmlich als Sanierungsgebiet festgelegt. Seitdem werden für städtebauliche Maßnahmen und Projekte vor Ort Fördermittel aus dem Bund-Länder-Städtebauförderungsprogramm &quot;Sozialer Zusammenhalt&quot; und Mitteln der Landeshauptstadt München eingesetzt. Bei dieser Stadtteilsanierung steht im Mittelpunkt, attraktiven öffentlichen Raum zu schaffen und dabei nachhaltig zu entwickeln.&lt;/p&gt; &lt;p&gt;In Kooperation mit der Münchner Gesellschaft für Stadterneuerung mbH.&lt;/p&gt; 
DTSTART:20210930T173000
DTEND:20210930T190000
LOCATION:MVHS in Moosach, Baubergerstr. 6a
ORGANIZER:MVHS
END:VEVENT
END:VCALENDAR