BEGIN:VCALENDAR
VERSION:2.0
PRODID:-//Stadtgeschichte München//DE
CALSCALE:GREGORIAN
BEGIN:VEVENT
UID:19831@stadtgeschichte-muenchen.de
SUMMARY:Typisch München!
DESCRIPTION:&lt;p&gt;Oktoberfest und Viktualienmarkt, prächtige Bauten und Olympiagelände - München, die &quot;nördlichste Stadt Italiens&quot; ist international ein beliebtes Reiseziel und für einige Münchnerinnen und Münchner noch heute das schönste Dorf Deutschlands. Warum eigentlich? Was macht München so einzigartig?&lt;/p&gt; &lt;p&gt;Wir laden Sie zu einem informativen und erlebnisreichen 360° Rundgang durch die Ausstellung &quot;Typisch München!&quot; des Münchner Stadtmuseums ein, nehmen Objekte der Stadtgeschichte in den Blick, begegnen berühmten Persönlichkeiten wie Lola Montez und Karl Valentin und sprechen über Metzgersprung und Prinzregententorte. Die 360° Technik ermöglicht dabei eindrucksvolle Rundumblicke - fast so als würde man direkt in der Ausstellung sein.&lt;/p&gt; &lt;p&gt;In Kooperation mit dem Münchner Stadtmuseum&lt;/p&gt; 
DTSTART:20210901T190000
DTEND:20210901T200000
LOCATION:
ORGANIZER:MVHS
END:VEVENT
END:VCALENDAR