BEGIN:VCALENDAR
VERSION:2.0
PRODID:-//Stadtgeschichte München//DE
CALSCALE:GREGORIAN
BEGIN:VEVENT
UID:19845@stadtgeschichte-muenchen.de
SUMMARY:Orte nachhaltiger und regionaler Ernährung in Giesing
DESCRIPTION:&lt;p&gt;Urbane Gärten, Bauernmärkte, Hofladenautomaten, Vegane Restaurants, Komposttoiletten, Brauerei... die Stadtführung bringt Sie zu bekannten und unbekannten Orten in Ober- und Untergiesing, die historisch wichtig waren für die städtische Ernährung und an denen heute Stadtpolitik, Gewerbe (Kartoffelkombinat, Hippie Chay, Münchner Wochenmärkte) und Zivilgesellschaft (Green City e.V., Ernährungsrat München) ein ressourcenschonendes, regionales, artgerechtes und faires Ernährungssystem gestalten.&lt;/p&gt; &lt;p&gt;Eine ähnliche Tour ist als Audioguide permanent verfügbar unter: www.audio.eine-andere-welt-ist-pflanzbar.de&lt;/p&gt; &lt;p&gt;Die Tour endet am Giesinger Grünspitz&lt;/p&gt; 
DTSTART:20210722T170000
DTEND:20210722T200000
LOCATION:Maibaum neben dem Wochenmarkt am Hans-Mielich-Platz
ORGANIZER:MVHS
END:VEVENT
END:VCALENDAR