BEGIN:VCALENDAR
VERSION:2.0
PRODID:-//Stadtgeschichte München//DE
CALSCALE:GREGORIAN
BEGIN:VEVENT
UID:1993@stadtgeschichte-muenchen.de
SUMMARY:Architek-Tour:
DESCRIPTION:&lt;div&gt;Im September 2012 wird das Kulturzentrum 2411 offiziell er&amp;ouml;ffnet. Die M&amp;uuml;nchner Volkshochschule wird im 2. Stock ein attraktives,&amp;nbsp;&lt;/div&gt; &lt;div&gt;gemeinsam mit den Bewohner(inne)n des Hasenbergls und der Nordhaide entwickeltes Programm f&amp;uuml;r alle Bev&amp;ouml;lkerungsgruppen anbieten.&amp;nbsp;Eine gro&amp;szlig;e Mittelpunktsbibliothek im Erdgeschoss und im 1. Stock und ein B&amp;uuml;rgersaal im 3. Stock, der vom Kulturverein &amp;bdquo;Stadtteilkultur&amp;nbsp;2411&amp;quot; betrieben wird, sind ebenfalls in diesem Neubau angesiedelt. Auf dieser Baustellenf&amp;uuml;hrung mit Architekten und den zuk&amp;uuml;nftigen&amp;nbsp;Nutzern k&amp;ouml;nnen Sie einen ersten Eindruck bekommen. Bitte auf festes Schuhwerk achten.&lt;/div&gt;
DTSTART:20120317T093000
DTEND:20120317T110000
LOCATION: Baustellenbüro in der Blodigstr.
ORGANIZER:MVHS München Mitte   
END:VEVENT
END:VCALENDAR