BEGIN:VCALENDAR
VERSION:2.0
PRODID:-//Stadtgeschichte München//DE
CALSCALE:GREGORIAN
BEGIN:VEVENT
UID:19950@stadtgeschichte-muenchen.de
SUMMARY:Radtour zu den künstlerisch gestalteten Unterführungen in Sendling-Westpark
DESCRIPTION:
DTSTART:20210718T170000
DTEND:20210718T180000
LOCATION: Infocontainer auf dem Festplatz am Luise-Kiesselbach-Platz
ORGANIZER:
END:VEVENT
END:VCALENDAR