BEGIN:VCALENDAR
VERSION:2.0
PRODID:-//Stadtgeschichte München//DE
CALSCALE:GREGORIAN
BEGIN:VEVENT
UID:19965@stadtgeschichte-muenchen.de
SUMMARY:Jagd und andere Vergnügungen in der Sommerresidenz Nymphenburg
DESCRIPTION:&lt;p&gt;Außen- und Parkführung&lt;/p&gt; 
DTSTART:20210829T140000
DTEND:20210829T150000
LOCATION:vor dem Hauptschloss stadtseitig
ORGANIZER:Bayerische Schlösserverwaltung
END:VEVENT
END:VCALENDAR